BEGIN:VCALENDAR
VERSION:2.0
PRODID:-//Ananda Academy of Integral Esoteric Yoga - ECPv6.3.3.1//NONSGML v1.0//EN
CALSCALE:GREGORIAN
METHOD:PUBLISH
X-ORIGINAL-URL:https://anandayogaacademy.nl
X-WR-CALDESC:Events for Ananda Academy of Integral Esoteric Yoga
REFRESH-INTERVAL;VALUE=DURATION:PT1H
X-Robots-Tag:noindex
X-PUBLISHED-TTL:PT1H
BEGIN:VTIMEZONE
TZID:UTC
BEGIN:STANDARD
TZOFFSETFROM:+0000
TZOFFSETTO:+0000
TZNAME:UTC
DTSTART:20190101T000000
END:STANDARD
END:VTIMEZONE
BEGIN:VEVENT
DTSTART;TZID=UTC:20191128T190000
DTEND;TZID=UTC:20191128T210000
DTSTAMP:20260426T021558
CREATED:20191020T175534Z
LAST-MODIFIED:20191020T185859Z
UID:24842-1574967600-1574974800@anandayogaacademy.nl
SUMMARY:Yoga Beyond The Mat
DESCRIPTION:Extend your wellness outside the yoga class\, in your every day life!\n \nIn this workshop we learn how to apply simple yet effective techniques that allow us to be relaxed\, happy and in control in any life circumstance.
URL:https://anandayogaacademy.nl/event/yoga-beyond-the-mat/
END:VEVENT
END:VCALENDAR